BEGIN:VCALENDAR
VERSION:2.0
PRODID:-//American CEO - ECPv6.0.8//NONSGML v1.0//EN
CALSCALE:GREGORIAN
METHOD:PUBLISH
X-ORIGINAL-URL:https://americanceo.com
X-WR-CALDESC:Events for American CEO
REFRESH-INTERVAL;VALUE=DURATION:PT1H
X-Robots-Tag:noindex
X-PUBLISHED-TTL:PT1H
BEGIN:VTIMEZONE
TZID:UTC
BEGIN:STANDARD
TZOFFSETFROM:+0000
TZOFFSETTO:+0000
TZNAME:UTC
DTSTART:20230101T000000
END:STANDARD
END:VTIMEZONE
BEGIN:VEVENT
DTSTART;TZID=UTC:20230426T080000
DTEND;TZID=UTC:20230428T170000
DTSTAMP:20260421T113825
CREATED:20230117T064315Z
LAST-MODIFIED:20230118T073920Z
UID:3043-1682496000-1682701200@americanceo.com
SUMMARY:SPRING 3-DAY INTENSIVE
DESCRIPTION:
URL:https://americanceo.com/event/spring-3-day-intensive/
LOCATION:In-person\, Austin
CATEGORIES:3-Day Intensives,May
ATTACH;FMTTYPE=image/png:https://americanceo.com/wp-content/uploads/2023/01/event-img.png
END:VEVENT
END:VCALENDAR